BEGIN:VCALENDAR
VERSION:2.0
PRODID:-//NRBBA - ECPv6.15.20//NONSGML v1.0//EN
CALSCALE:GREGORIAN
METHOD:PUBLISH
X-ORIGINAL-URL:https://nrbba.org
X-WR-CALDESC:Events for NRBBA
REFRESH-INTERVAL;VALUE=DURATION:PT1H
X-Robots-Tag:noindex
X-PUBLISHED-TTL:PT1H
BEGIN:VTIMEZONE
TZID:UTC
BEGIN:STANDARD
TZOFFSETFROM:+0000
TZOFFSETTO:+0000
TZNAME:UTC
DTSTART:20250101T000000
END:STANDARD
END:VTIMEZONE
BEGIN:VTIMEZONE
TZID:America/Los_Angeles
BEGIN:DAYLIGHT
TZOFFSETFROM:-0800
TZOFFSETTO:-0700
TZNAME:PDT
DTSTART:20250309T100000
END:DAYLIGHT
BEGIN:STANDARD
TZOFFSETFROM:-0700
TZOFFSETTO:-0800
TZNAME:PST
DTSTART:20251102T090000
END:STANDARD
BEGIN:DAYLIGHT
TZOFFSETFROM:-0800
TZOFFSETTO:-0700
TZNAME:PDT
DTSTART:20260308T100000
END:DAYLIGHT
BEGIN:STANDARD
TZOFFSETFROM:-0700
TZOFFSETTO:-0800
TZNAME:PST
DTSTART:20261101T090000
END:STANDARD
BEGIN:DAYLIGHT
TZOFFSETFROM:-0800
TZOFFSETTO:-0700
TZNAME:PDT
DTSTART:20270314T100000
END:DAYLIGHT
BEGIN:STANDARD
TZOFFSETFROM:-0700
TZOFFSETTO:-0800
TZNAME:PST
DTSTART:20271107T090000
END:STANDARD
END:VTIMEZONE
BEGIN:VEVENT
DTSTART;TZID=UTC:20260114T173000
DTEND;TZID=UTC:20260114T193000
DTSTAMP:20260422T022134
CREATED:20251228T060451Z
LAST-MODIFIED:20260105T004517Z
UID:7706-1768411800-1768419000@nrbba.org
SUMMARY:Happy New Year Mixer at TrustedGut Brewery
DESCRIPTION:Celebrate the New Year in style at NRBBA’s New Year’s Mixer! Join us at Trusted Gut Brewery on Wednesday\, January 14th\, from 5:30-7:30 PM for an evening of fun\, networking\, and celebration. 🍻 \nLocation:\nTrusted Gut Brewery & Tap Room\n2907 182nd Street\nRedondo Beach 90278 \nEnjoy Happy Hour pricing ($5/beer) and assorted pizzas from the newly reopened Great Room Cafe exclusively for NRBBA members. Let’s raise a glass to your success in 2026! \nClick HERE to RSVP and let us know you can make it!\nKnow anyone else who lives or works in our community that wants to be part of NRBBA? They can sign up for our emails here!
URL:https://nrbba.org/event/happy-new-year-mixer-at-trustedgut-brewery/
LOCATION:TrustedGut Brewery\, 2908 182nd Street\, Redondo Beach\, CA\, 90278\, United States
ATTACH;FMTTYPE=image/png:https://nrbba.org/wp-content/uploads/2025/12/NRBBA-26-01-14-Mixer.png
END:VEVENT
BEGIN:VEVENT
DTSTART;TZID=America/Los_Angeles:20260212T074500
DTEND;TZID=America/Los_Angeles:20260212T090000
DTSTAMP:20260422T022134
CREATED:20251228T065259Z
LAST-MODIFIED:20260113T193225Z
UID:7711-1770882300-1770886800@nrbba.org
SUMMARY:Rise & Shine Redondo - Feb 12\, Outsmart Disaster
DESCRIPTION:Outsmart Disaster. Be Ready. Be Resilient.\nIt’s not just earthquakes\, fires or floods. Businesses get knocked offline every day by power outages\, cybersecurity breaches\, road closures\, broken equipment\, staff shortages — the unexpected things that derail your day\, week\, month or possibly year.  Get ready before it happens. Outsmart Disaster. Be Ready. Be Resilient. \nProgram \n\n7:45am: In-Person: Coffee and Connecting\, South Bay Galleria Community Room\n8:00am: Program Starts featuring Susana Ramirez-Munoz\, Southern California Resiliency Training Coordinator\n9:00am: Program Ends\n9:15-10:30am: In-Person Workshop to draft your Outsmart Disaster Plan – Workbook Included\n\nRSVP for Rise & Shine Redondo meeting and Outsmart Disaster Workshop HERE. \nDid you know every $1 invested in Disaster Mitigation saves $13 in recovery? The State of California’s Office of the Small Business Advocate (CalOSBA) has created a program to simplify the process for busy business owners. \nThis is a unique opportunity to refresh your Business Continuity Plan with CalOSBA’s Business Resiliency Roadmap workbook. Each participant will receive their own workbook to customize for their business.  RSVP HERE \nImmediately after the Rise & Shine Redondo Meeting\, a Workshop will be conducted to assist you in drafting your Outsmart Disaster Plan. Please RSVP if you will be available to attend so we can plan the space requirements needed. \nDon’t miss this opportunity to protect your business and support your employees and family. When disaster strikes\, being prepared alleviates countless hours of anguish and worry. \nTo find the meetings: Park on level 4 of the Galleria Parking Structure\, 1815 Hawthorne Blvd\, Redondo Beach. Enter the mall and turn left toward AMC. The Community Room is just past AMC on the left. \nTogether\, we celebrate our community and fuel the local economy!
URL:https://nrbba.org/event/rise-shine-redondo-feb-monthly-meeting/
LOCATION:South Bay Galleria Community Room\, 1815 Hawthorne Blvd\,\, Redondo Beach\, CA\, 90277
ATTACH;FMTTYPE=image/png:https://nrbba.org/wp-content/uploads/2025/12/R-S-Feb-12-Outsmart-Disaster-2.png
END:VEVENT
BEGIN:VEVENT
DTSTART;TZID=UTC:20260214T090000
DTEND;TZID=UTC:20260214T120000
DTSTAMP:20260422T022134
CREATED:20251228T052713Z
LAST-MODIFIED:20260105T005603Z
UID:7696-1771059600-1771070400@nrbba.org
SUMMARY:Second Saturday Sweep! Feb 14 - Greenway Clean-Up Day
DESCRIPTION:Supported by NRBBA\, join Chief Volunteer Organizer\, Jeff Rowe as we clean-up our neighborhood and walking path. Jeff generously provides water\, gloves\, trash bags and trash pickers (for those that need a little help bending down). You can come for half an hour\, an hour\, or all 3 hours! Jeff or one of his trusted Volunteers will be in the Parking lot ready to greet you and set you up with your supplies from 9am – Noon. \n\nWhere? Greenway Parking Lot on the north side of Artesia Blvd.\nWhen? 2nd Saturday\, 9am – Noon.\nWhy? Because we all like to keep our neighborhood clean!\nWho? Great neighbors who band together to have fun and make a difference.\n\nQuestions: Contact: “Happy Dog” Jeff Rowe\, 310-740-6172 or jeff@strandhill.com
URL:https://nrbba.org/event/second-saturday-sweep-greenway-clean-up-day-2/
LOCATION:CA
CATEGORIES:Meeting
ATTACH;FMTTYPE=image/jpeg:https://nrbba.org/wp-content/uploads/2025/12/Resized_20250412_103418.jpeg
END:VEVENT
BEGIN:VEVENT
DTSTART;TZID=America/Los_Angeles:20260312T074500
DTEND;TZID=America/Los_Angeles:20260312T090000
DTSTAMP:20260422T022134
CREATED:20251228T081602Z
LAST-MODIFIED:20260104T034543Z
UID:7719-1773301500-1773306000@nrbba.org
SUMMARY:Rise & Shine Redondo - March 12\, LA Co. Certifications
DESCRIPTION:Get Certified & Get Ready for 2028 Olympic & Paralympic Games\n  \nThe Los Angeles County Department of Economic Opportunity (DEO)\, in partnership with the North Redondo Beach Business Association\, will host a meeting and workshop to help small businesses prepare for upcoming contracting opportunities connected to the 2028 Olympic and Paralympic Games.  The meeting includes an overview of the County’s 88 for 28 initiative\, expected procurement pathways for LA28\, and guidance on how to access County contracting opportunities. The in-person Workship provides hands-on certification support and access to live technical assistance. \nProgram Highlights Include:\n\n88 for 28 Overview: Key information channels and Olympic-related planning efforts.\nHow to Get Certified: Vendor registration\, certification steps\, and available technical assistance.\nUpcoming Opportunity Landscape: What to expect from LA28 procurement and County solicitation pathways.\nHands-On Support: In-person guidance on documentation and certification preparation.\n\nAgenda \n\n7:45am: In-Person: Coffee and Connecting\, South Bay Galleria Community Room\n8:00am: Program Starts in-person and virtually featuring Leila Lee\, Assistant Director\, LA County Department of Economic Opportunity\n9:00am: Program & Virtual Connection Ends\n9:15am: In-Person LA County Small Business Certification Workshop conducted by Enrique Gonzalez\, Supervisor\, Office of Small Business\, Dept. of Economic Opportunity\, The County of Los Angeles\n\nRSVP for in-person Rise & Shine Redondo meeting and LA County Certification Workshop HERE. \nRSVP here for virtual Rise & Shine Redondo meeting only. Virtual only participants will hear from Leila Lee\, participate in Q & A\, and learn next steps on how they can get certified off-line. \nThis is a unique opportunity to get hands-on guidance in learning the criteria these large events use to source local small businesses\, while working toward attaining your LA Co. Small Business Certification. What can the LA Co. Small Business Certification do for you? \n\nLA28 will tap into an expansive network of suppliers to execute on hundreds of contract opportunities across logistics\, hospitality\, tourism\, transportation\, and events. Register here.\nFIFA Los Angeles has created a procurement site listing needs in: AV\, Catering\, Decor\, Entertainment\, Event Production\, Photography\, Printing\, Staffing Transportation and many more opportunities. Read about the criteria and register here.\nThe LA Sports & Entertainment Commission was developed in 2022 to connect local diverse businesses to premier LA-based sporting and entertainment events. Eligibility requires certification as a minority\, woman\, LGBTQ+\, person with disabilities\, or veteran-owned business that provides services that match the event production needs of these clients. Read about the criteria and register here.\nCertification Preference Program Entities also enjoy 15% Price Preference and 15 – Day Price Preference and Access to the Streamlined Acquisition Process (SAP) within the County’s procurement processes.\n\nImmediately after the Rise & Shine Redondo meeting\, a workshop conducted by Enrique Gonzalez\, Supervisor\, Office of Small Business\, Dept. of Economic Opportunity\, The County of Los Angeles\, will provide you with step-by-step instructions to complete your LA County Certification requirements. Please RSVP if you will be available to attend so we can plan the space requirements needed. \nIn order to get certified at the workshop you must prepare in advance: \n\nRegister and Certify with the State of California’s Marketplace: Plan to do this by March 1\, it takes a few days to complete the process and get approved by the State.\nRegister and submit requested supporting documentation or bring to the meeting. Plan to do this by March 6.\n\nContact info@nrbba.org if you have any questions. \nTo find the meetings: Park on level 4 of the Galleria Parking Structure\, 1815 Hawthorne Blvd\, Redondo Beach. Enter the mall and turn left toward AMC. The Community Room is just past AMC on the left. \n  \nTogether\, we celebrate our community and fuel the local economy!
URL:https://nrbba.org/event/rise-shine-redondo-march-12-monthly-meeting/
LOCATION:South Bay Galleria Community Room\, 1815 Hawthorne Blvd\,\, Redondo Beach\, CA\, 90277
ATTACH;FMTTYPE=image/png:https://nrbba.org/wp-content/uploads/2025/12/R-S-March-12-2026-1.png
END:VEVENT
BEGIN:VEVENT
DTSTART;TZID=UTC:20260314T090000
DTEND;TZID=UTC:20260314T120000
DTSTAMP:20260422T022134
CREATED:20260301T191503Z
LAST-MODIFIED:20260302T054204Z
UID:7545-1773478800-1773489600@nrbba.org
SUMMARY:Second Saturday Sweep! March 14\, Greenway Clean-Up Day
DESCRIPTION:Supported by NRBBA\, join Chief Volunteer Organizer\, Jeff Rowe as we clean-up our neighborhood and walking path. Jeff generously provides water\, gloves\, trash bags and trash pickers (for those that need a little help bending down). You can come for half an hour\, an hour\, or all 3 hours! Jeff or one of his trusted Volunteers will be in the Parking lot ready to greet you and set you up with your supplies from 9am – Noon. \n\nWhere? Greenway Parking Lot on the north side of Artesia Blvd.\nWhen? 2nd Saturday\, 9am – Noon.\nWhy? Because we all like to keep our neighborhood clean!\nWho? Great neighbors who band together to have fun and make a difference.\n\nQuestions: Contact: “Happy Dog” Jeff Rowe\, 310-740-6172 or jeff@strandhill.com
URL:https://nrbba.org/event/second-saturday-sweep-greenway-clean-up-day/
LOCATION:CA
CATEGORIES:Meeting
ATTACH;FMTTYPE=image/jpeg:https://nrbba.org/wp-content/uploads/2026/01/IMG_1756-scaled.jpg
END:VEVENT
BEGIN:VEVENT
DTSTART;TZID=America/Los_Angeles:20260409T074500
DTEND;TZID=America/Los_Angeles:20260409T090000
DTSTAMP:20260422T022134
CREATED:20260302T061017Z
LAST-MODIFIED:20260302T062131Z
UID:8110-1775720700-1775725200@nrbba.org
SUMMARY:Rise & Shine Redondo - April 9\, North Redondo Farmers Market
DESCRIPTION:North Redondo Farmers Market\n\n\n\n\n\n\n\n\n\n\n\n\n\n\nJim Mueller and Teresa Mitchell present an inspiring update on the new North Redondo Beach Farmers Market. What began as a dream is becoming a vibrant community asset thanks to dedicated neighbors working together. Learn the planned opening date\, location\, how it all came together\, and opportunities for vendors to get involved. Discover how grassroots collaboration can create something that benefits the entire community. \nProgram \n\n7:45am: In-Person: Coffee and Connecting\, South Bay Galleria Community Room\n8:00am: Program Starts featuring Jim Mueller\, OurNRB Founder and Teresa Mitchel\, OurNRB President\n9:00am: Program Ends\n\nRSVP for Rise & Shine Redondo: North Redondo Farmers Market HERE. \nTo find the meetings: Park on level 4 of the Galleria Parking Structure\, 1815 Hawthorne Blvd\, Redondo Beach. Enter the mall and turn left toward AMC. The Community Room is just past AMC on the left. \nTogether\, we celebrate our community and fuel the local economy!
URL:https://nrbba.org/event/rise-shine-redondo-april-9-north-redondo-farmers-market/
LOCATION:South Bay Galleria Community Room\, 1815 Hawthorne Blvd\,\, Redondo Beach\, CA\, 90277
ATTACH;FMTTYPE=image/png:https://nrbba.org/wp-content/uploads/2026/03/R-S-April-9-2026-1.png
END:VEVENT
BEGIN:VEVENT
DTSTART;TZID=UTC:20260411T090000
DTEND;TZID=UTC:20260411T120000
DTSTAMP:20260422T022134
CREATED:20260302T054459Z
LAST-MODIFIED:20260302T054518Z
UID:8107-1775898000-1775908800@nrbba.org
SUMMARY:Second Saturday Sweep! April 11 - Greenway Clean-Up Day
DESCRIPTION:Supported by NRBBA\, join Chief Volunteer Organizer\, Jeff Rowe as we clean-up our neighborhood and walking path. Jeff generously provides water\, gloves\, trash bags and trash pickers (for those that need a little help bending down). You can come for half an hour\, an hour\, or all 3 hours! Jeff or one of his trusted Volunteers will be in the Parking lot ready to greet you and set you up with your supplies from 9am – Noon. \n\nWhere? Greenway Parking Lot on the north side of Artesia Blvd.\nWhen? 2nd Saturday\, 9am – Noon.\nWhy? Because we all like to keep our neighborhood clean!\nWho? Great neighbors who band together to have fun and make a difference.\n\nQuestions: Contact: “Happy Dog” Jeff Rowe\, 310-740-6172 or jeff@strandhill.com
URL:https://nrbba.org/event/second-saturday-sweep-apr-11-greenway-clean-up-day/
LOCATION:CA
CATEGORIES:Meeting
ATTACH;FMTTYPE=image/jpeg:https://nrbba.org/wp-content/uploads/2025/12/Resized_20250412_103418.jpeg
END:VEVENT
END:VCALENDAR