BEGIN:VCALENDAR
VERSION:2.0
PRODID:-//NRBBA - ECPv6.15.20//NONSGML v1.0//EN
CALSCALE:GREGORIAN
METHOD:PUBLISH
X-WR-CALNAME:NRBBA
X-ORIGINAL-URL:https://nrbba.org
X-WR-CALDESC:Events for NRBBA
REFRESH-INTERVAL;VALUE=DURATION:PT1H
X-Robots-Tag:noindex
X-PUBLISHED-TTL:PT1H
BEGIN:VTIMEZONE
TZID:America/Los_Angeles
BEGIN:DAYLIGHT
TZOFFSETFROM:-0800
TZOFFSETTO:-0700
TZNAME:PDT
DTSTART:20250309T100000
END:DAYLIGHT
BEGIN:STANDARD
TZOFFSETFROM:-0700
TZOFFSETTO:-0800
TZNAME:PST
DTSTART:20251102T090000
END:STANDARD
BEGIN:DAYLIGHT
TZOFFSETFROM:-0800
TZOFFSETTO:-0700
TZNAME:PDT
DTSTART:20260308T100000
END:DAYLIGHT
BEGIN:STANDARD
TZOFFSETFROM:-0700
TZOFFSETTO:-0800
TZNAME:PST
DTSTART:20261101T090000
END:STANDARD
BEGIN:DAYLIGHT
TZOFFSETFROM:-0800
TZOFFSETTO:-0700
TZNAME:PDT
DTSTART:20270314T100000
END:DAYLIGHT
BEGIN:STANDARD
TZOFFSETFROM:-0700
TZOFFSETTO:-0800
TZNAME:PST
DTSTART:20271107T090000
END:STANDARD
END:VTIMEZONE
BEGIN:VTIMEZONE
TZID:UTC
BEGIN:STANDARD
TZOFFSETFROM:+0000
TZOFFSETTO:+0000
TZNAME:UTC
DTSTART:20250101T000000
END:STANDARD
END:VTIMEZONE
BEGIN:VEVENT
DTSTART;TZID=America/Los_Angeles:20260212T074500
DTEND;TZID=America/Los_Angeles:20260212T090000
DTSTAMP:20260422T000036
CREATED:20251228T065259Z
LAST-MODIFIED:20260113T193225Z
UID:7711-1770882300-1770886800@nrbba.org
SUMMARY:Rise & Shine Redondo - Feb 12\, Outsmart Disaster
DESCRIPTION:Outsmart Disaster. Be Ready. Be Resilient.\nIt’s not just earthquakes\, fires or floods. Businesses get knocked offline every day by power outages\, cybersecurity breaches\, road closures\, broken equipment\, staff shortages — the unexpected things that derail your day\, week\, month or possibly year.  Get ready before it happens. Outsmart Disaster. Be Ready. Be Resilient. \nProgram \n\n7:45am: In-Person: Coffee and Connecting\, South Bay Galleria Community Room\n8:00am: Program Starts featuring Susana Ramirez-Munoz\, Southern California Resiliency Training Coordinator\n9:00am: Program Ends\n9:15-10:30am: In-Person Workshop to draft your Outsmart Disaster Plan – Workbook Included\n\nRSVP for Rise & Shine Redondo meeting and Outsmart Disaster Workshop HERE. \nDid you know every $1 invested in Disaster Mitigation saves $13 in recovery? The State of California’s Office of the Small Business Advocate (CalOSBA) has created a program to simplify the process for busy business owners. \nThis is a unique opportunity to refresh your Business Continuity Plan with CalOSBA’s Business Resiliency Roadmap workbook. Each participant will receive their own workbook to customize for their business.  RSVP HERE \nImmediately after the Rise & Shine Redondo Meeting\, a Workshop will be conducted to assist you in drafting your Outsmart Disaster Plan. Please RSVP if you will be available to attend so we can plan the space requirements needed. \nDon’t miss this opportunity to protect your business and support your employees and family. When disaster strikes\, being prepared alleviates countless hours of anguish and worry. \nTo find the meetings: Park on level 4 of the Galleria Parking Structure\, 1815 Hawthorne Blvd\, Redondo Beach. Enter the mall and turn left toward AMC. The Community Room is just past AMC on the left. \nTogether\, we celebrate our community and fuel the local economy!
URL:https://nrbba.org/event/rise-shine-redondo-feb-monthly-meeting/
LOCATION:South Bay Galleria Community Room\, 1815 Hawthorne Blvd\,\, Redondo Beach\, CA\, 90277
ATTACH;FMTTYPE=image/png:https://nrbba.org/wp-content/uploads/2025/12/R-S-Feb-12-Outsmart-Disaster-2.png
END:VEVENT
BEGIN:VEVENT
DTSTART;TZID=UTC:20260114T173000
DTEND;TZID=UTC:20260114T193000
DTSTAMP:20260422T000036
CREATED:20251228T060451Z
LAST-MODIFIED:20260105T004517Z
UID:7706-1768411800-1768419000@nrbba.org
SUMMARY:Happy New Year Mixer at TrustedGut Brewery
DESCRIPTION:Celebrate the New Year in style at NRBBA’s New Year’s Mixer! Join us at Trusted Gut Brewery on Wednesday\, January 14th\, from 5:30-7:30 PM for an evening of fun\, networking\, and celebration. 🍻 \nLocation:\nTrusted Gut Brewery & Tap Room\n2907 182nd Street\nRedondo Beach 90278 \nEnjoy Happy Hour pricing ($5/beer) and assorted pizzas from the newly reopened Great Room Cafe exclusively for NRBBA members. Let’s raise a glass to your success in 2026! \nClick HERE to RSVP and let us know you can make it!\nKnow anyone else who lives or works in our community that wants to be part of NRBBA? They can sign up for our emails here!
URL:https://nrbba.org/event/happy-new-year-mixer-at-trustedgut-brewery/
LOCATION:TrustedGut Brewery\, 2908 182nd Street\, Redondo Beach\, CA\, 90278\, United States
ATTACH;FMTTYPE=image/png:https://nrbba.org/wp-content/uploads/2025/12/NRBBA-26-01-14-Mixer.png
END:VEVENT
END:VCALENDAR